BEGIN:VCALENDAR
VERSION:2.0
PRODID:-//AfD NRW - ECPv6.15.20//NONSGML v1.0//EN
CALSCALE:GREGORIAN
METHOD:PUBLISH
X-ORIGINAL-URL:https://afd.nrw
X-WR-CALDESC:Veranstaltungen für AfD NRW
REFRESH-INTERVAL;VALUE=DURATION:PT1H
X-Robots-Tag:noindex
X-PUBLISHED-TTL:PT1H
BEGIN:VTIMEZONE
TZID:Europe/Berlin
BEGIN:DAYLIGHT
TZOFFSETFROM:+0100
TZOFFSETTO:+0200
TZNAME:CEST
DTSTART:20240331T010000
END:DAYLIGHT
BEGIN:STANDARD
TZOFFSETFROM:+0200
TZOFFSETTO:+0100
TZNAME:CET
DTSTART:20241027T010000
END:STANDARD
BEGIN:DAYLIGHT
TZOFFSETFROM:+0100
TZOFFSETTO:+0200
TZNAME:CEST
DTSTART:20250330T010000
END:DAYLIGHT
BEGIN:STANDARD
TZOFFSETFROM:+0200
TZOFFSETTO:+0100
TZNAME:CET
DTSTART:20251026T010000
END:STANDARD
BEGIN:DAYLIGHT
TZOFFSETFROM:+0100
TZOFFSETTO:+0200
TZNAME:CEST
DTSTART:20260329T010000
END:DAYLIGHT
BEGIN:STANDARD
TZOFFSETFROM:+0200
TZOFFSETTO:+0100
TZNAME:CET
DTSTART:20261025T010000
END:STANDARD
END:VTIMEZONE
BEGIN:VEVENT
DTSTART;TZID=Europe/Berlin:20250809T110000
DTEND;TZID=Europe/Berlin:20250809T150000
DTSTAMP:20260421T200151
CREATED:20250805T071642Z
LAST-MODIFIED:20250805T071642Z
UID:88742-1754737200-1754751600@afd.nrw
SUMMARY:Infostand Paderborn
DESCRIPTION:Infostand Kommunalwahlkampf im Kreis Paderborn \n– Sa. 09.08. (11-15 Uhr)\, Westernstr. in 33098 Paderborn (vor Kochlöffel) \n  \n 
URL:https://afd.nrw/event/infostand-paderborn-2/
CATEGORIES:Infostand
END:VEVENT
BEGIN:VEVENT
DTSTART;TZID=Europe/Berlin:20250809T150000
DTEND;TZID=Europe/Berlin:20250809T180000
DTSTAMP:20260421T200151
CREATED:20250805T071821Z
LAST-MODIFIED:20250805T071821Z
UID:88744-1754751600-1754762400@afd.nrw
SUMMARY:Infostand Paderborn
DESCRIPTION:Infostand Paderborn \n– Sa. 09.08. (15-18 Uhr)\, Angelnweg 5\, 33102 Paderborn (beim Karamarkt) \n 
URL:https://afd.nrw/event/infostand-paderborn-3/
CATEGORIES:Infostand
END:VEVENT
BEGIN:VEVENT
DTSTART;TZID=Europe/Berlin:20250810T090000
DTEND;TZID=Europe/Berlin:20250810T120000
DTSTAMP:20260421T200151
CREATED:20250805T072134Z
LAST-MODIFIED:20250805T072134Z
UID:88746-1754816400-1754827200@afd.nrw
SUMMARY:Infostand Paderborn
DESCRIPTION:Infostand Paderborn \n– So. 10.08. (09-12 Uhr)\, Alter Hellweg 26\, 33106 Paderborn-Wewer (vor Bäckerei Goeken) \n 
URL:https://afd.nrw/event/infostand-paderborn-4/
CATEGORIES:Infostand
END:VEVENT
BEGIN:VEVENT
DTSTART;TZID=Europe/Berlin:20250829T110000
DTEND;TZID=Europe/Berlin:20250829T150000
DTSTAMP:20260421T200151
CREATED:20250824T182834Z
LAST-MODIFIED:20250824T182834Z
UID:88943-1756465200-1756479600@afd.nrw
SUMMARY:Infostand Paderborn
DESCRIPTION:Infostand KV Paderborn \nElsen\, Höhe Kolpingparkplatz
URL:https://afd.nrw/event/infostand-paderborn-5/
CATEGORIES:Infostand
END:VEVENT
BEGIN:VEVENT
DTSTART;TZID=Europe/Berlin:20250830T110000
DTEND;TZID=Europe/Berlin:20250830T180000
DTSTAMP:20260421T200151
CREATED:20250824T183019Z
LAST-MODIFIED:20250824T183019Z
UID:88945-1756551600-1756576800@afd.nrw
SUMMARY:Infostand Paderborn
DESCRIPTION:Infostand Paderborn \nWesternstrasse (Höhe Kochlöffel)
URL:https://afd.nrw/event/infostand-paderborn-6/
CATEGORIES:Infostand
END:VEVENT
BEGIN:VEVENT
DTSTART;TZID=Europe/Berlin:20250831T090000
DTEND;TZID=Europe/Berlin:20250831T120000
DTSTAMP:20260421T200151
CREATED:20250824T183221Z
LAST-MODIFIED:20250824T183221Z
UID:88948-1756630800-1756641600@afd.nrw
SUMMARY:Infostand Paderborn
DESCRIPTION:Infostand Paderborn \nWever\, Alter Hellweg 26\, Höhe Goeken backen
URL:https://afd.nrw/event/infostand-paderborn-7/
CATEGORIES:Infostand
END:VEVENT
END:VCALENDAR