BEGIN:VCALENDAR
VERSION:2.0
PRODID:-//AfD NRW - ECPv6.15.20//NONSGML v1.0//EN
CALSCALE:GREGORIAN
METHOD:PUBLISH
X-WR-CALNAME:AfD NRW
X-ORIGINAL-URL:https://afd.nrw
X-WR-CALDESC:Veranstaltungen für AfD NRW
REFRESH-INTERVAL;VALUE=DURATION:PT1H
X-Robots-Tag:noindex
X-PUBLISHED-TTL:PT1H
BEGIN:VTIMEZONE
TZID:Europe/Berlin
BEGIN:DAYLIGHT
TZOFFSETFROM:+0100
TZOFFSETTO:+0200
TZNAME:CEST
DTSTART:20240331T010000
END:DAYLIGHT
BEGIN:STANDARD
TZOFFSETFROM:+0200
TZOFFSETTO:+0100
TZNAME:CET
DTSTART:20241027T010000
END:STANDARD
BEGIN:DAYLIGHT
TZOFFSETFROM:+0100
TZOFFSETTO:+0200
TZNAME:CEST
DTSTART:20250330T010000
END:DAYLIGHT
BEGIN:STANDARD
TZOFFSETFROM:+0200
TZOFFSETTO:+0100
TZNAME:CET
DTSTART:20251026T010000
END:STANDARD
BEGIN:DAYLIGHT
TZOFFSETFROM:+0100
TZOFFSETTO:+0200
TZNAME:CEST
DTSTART:20260329T010000
END:DAYLIGHT
BEGIN:STANDARD
TZOFFSETFROM:+0200
TZOFFSETTO:+0100
TZNAME:CET
DTSTART:20261025T010000
END:STANDARD
END:VTIMEZONE
BEGIN:VEVENT
DTSTART;TZID=Europe/Berlin:20250905T140000
DTEND;TZID=Europe/Berlin:20250905T160000
DTSTAMP:20260419T213314
CREATED:20250701T091318Z
LAST-MODIFIED:20250701T091318Z
UID:88693-1757080800-1757088000@afd.nrw
SUMMARY:Infostand in Kürten
DESCRIPTION:Infostände in Kürten Bechen am Esel: \n\nFreitag\, 01.08.25\,\nFreitag\, 22.08.25 und\nFreitag\, 05.09.25\,\n\njeweils in 51515 Kürten Bechen am Esel\, Kölner Str. 374 im Bereich der Bushaltestelle. \nDie Infostände beginnen jeweils um 14 Uhr und enden um 16 Uhr.
URL:https://afd.nrw/event/infostand-in-kuerten-2/
LOCATION:Kürten Bechen am Esel\, Kölner Strasse 374\, Kürten\, 51515\, Germany
CATEGORIES:Infostand
END:VEVENT
BEGIN:VEVENT
DTSTART;TZID=Europe/Berlin:20250906T100000
DTEND;TZID=Europe/Berlin:20250906T150000
DTSTAMP:20260419T213314
CREATED:20250822T164542Z
LAST-MODIFIED:20250822T164542Z
UID:88924-1757152800-1757170800@afd.nrw
SUMMARY:Infostand in Euskirchen
DESCRIPTION:
URL:https://afd.nrw/event/infostand-in-euskirchen-3/
CATEGORIES:Infostand
ATTACH;FMTTYPE=image/jpeg:https://afd.nrw/wp-content/uploads/2025/08/Infostand-Euskirchen-06.09.2025.jpg
END:VEVENT
BEGIN:VEVENT
DTSTART;TZID=Europe/Berlin:20250907T130000
DTEND;TZID=Europe/Berlin:20250907T180000
DTSTAMP:20260419T213314
CREATED:20250901T145209Z
LAST-MODIFIED:20250901T145209Z
UID:89018-1757250000-1757268000@afd.nrw
SUMMARY:Infostand Emmerich am Rhein
DESCRIPTION:
URL:https://afd.nrw/event/infostand-emmerich-am-rhein/
LOCATION:Kaßstraße 43 – 46446 Emmerich am Rhein
CATEGORIES:Infostand
END:VEVENT
BEGIN:VEVENT
DTSTART;TZID=Europe/Berlin:20250913T100000
DTEND;TZID=Europe/Berlin:20250913T150000
DTSTAMP:20260419T213314
CREATED:20250822T164827Z
LAST-MODIFIED:20250822T164827Z
UID:88926-1757757600-1757775600@afd.nrw
SUMMARY:Infostand in Euskirchen
DESCRIPTION:
URL:https://afd.nrw/event/infostand-in-euskirchen-4/
CATEGORIES:Infostand
ATTACH;FMTTYPE=image/jpeg:https://afd.nrw/wp-content/uploads/2025/08/Infostand-Euskirchen-13.09.2025.jpg
END:VEVENT
END:VCALENDAR